BEGIN:VCALENDAR
VERSION:2.0
PRODID:-//New Jersey State Library - ECPv5.9.1//NONSGML v1.0//EN
CALSCALE:GREGORIAN
METHOD:PUBLISH
X-WR-CALNAME:New Jersey State Library
X-ORIGINAL-URL:https://www.njstatelib.org
X-WR-CALDESC:Events for New Jersey State Library
BEGIN:VTIMEZONE
TZID:America/New_York
BEGIN:DAYLIGHT
TZOFFSETFROM:-0500
TZOFFSETTO:-0400
TZNAME:EDT
DTSTART:20210314T070000
END:DAYLIGHT
BEGIN:STANDARD
TZOFFSETFROM:-0400
TZOFFSETTO:-0500
TZNAME:EST
DTSTART:20211107T060000
END:STANDARD
END:VTIMEZONE
BEGIN:VEVENT
DTSTART;TZID=America/New_York:20211013T120000
DTEND;TZID=America/New_York:20211013T133000
DTSTAMP:20211013T000449
CREATED:20210922T141244Z
LAST-MODIFIED:20210922T141244Z
UID:80733-1634126400-1634131800@www.njstatelib.org
SUMMARY:WEBINAR - New Jersey Cemeteries Panel Discussion
DESCRIPTION:Cemeteries play many roles in our society and are especially important for genealogists. Not only do they preserve the physical remains of those that have died\, they provide a place where memories are kept alive. For genealogists\, they can provide information about dates of birth and death\, associated family members\, geographic location\, and religious affiliation. In honor of National Family History Month\, the New Jersey State Library is proud to present our first ever NJ Cemeteries Panel Discussion to highlight the critical roles cemeteries throughout the state play\, especially as it relates to genealogical research. Bring your questions and notebooks as representatives from a diverse selection of cemeteries provide insight into their missions and residents! \nPanelists: \nTodd Boyer\, Superintendent and Trustee\, Green Cemetery \nMort Cohen\, Vice President\, Greater Trenton Jewish Cemetery Project \nLinda Gilmore\, Business Administrator\, Nassau Presbyterian Church and Princeton Cemetery \nDolly Marshall\, Historical Preservation Activist and Research Archivist\, Mount Peace Cemetery \nAngela Witcher\, Pennington African Cemetery \nClick here to register!
URL:https://www.njstatelib.org/event/webinar-new-jersey-cemeteries-panel-discussion/
LOCATION:Online
CATEGORIES:NJSL Presents,Research Library
ATTACH;FMTTYPE=image/jpeg:https://www.njstatelib.org/wp-content/uploads/2021/09/Cemetery.jpg
END:VEVENT
END:VCALENDAR